BEGIN:VCALENDAR
VERSION:2.0
PRODID:-//Dom Sąsiedzki Piecki-Migowo - ECPv6.15.20//NONSGML v1.0//EN
CALSCALE:GREGORIAN
METHOD:PUBLISH
X-WR-CALNAME:Dom Sąsiedzki Piecki-Migowo
X-ORIGINAL-URL:https://piecki-migowo-ds.pl
X-WR-CALDESC:Wydarzenia dla Dom Sąsiedzki Piecki-Migowo
REFRESH-INTERVAL;VALUE=DURATION:PT1H
X-Robots-Tag:noindex
X-PUBLISHED-TTL:PT1H
BEGIN:VTIMEZONE
TZID:Europe/Paris
BEGIN:DAYLIGHT
TZOFFSETFROM:+0100
TZOFFSETTO:+0200
TZNAME:CEST
DTSTART:20250330T010000
END:DAYLIGHT
BEGIN:STANDARD
TZOFFSETFROM:+0200
TZOFFSETTO:+0100
TZNAME:CET
DTSTART:20251026T010000
END:STANDARD
BEGIN:DAYLIGHT
TZOFFSETFROM:+0100
TZOFFSETTO:+0200
TZNAME:CEST
DTSTART:20260329T010000
END:DAYLIGHT
BEGIN:STANDARD
TZOFFSETFROM:+0200
TZOFFSETTO:+0100
TZNAME:CET
DTSTART:20261025T010000
END:STANDARD
BEGIN:DAYLIGHT
TZOFFSETFROM:+0100
TZOFFSETTO:+0200
TZNAME:CEST
DTSTART:20270328T010000
END:DAYLIGHT
BEGIN:STANDARD
TZOFFSETFROM:+0200
TZOFFSETTO:+0100
TZNAME:CET
DTSTART:20271031T010000
END:STANDARD
END:VTIMEZONE
BEGIN:VEVENT
DTSTART;TZID=Europe/Paris:20260423T100000
DTEND;TZID=Europe/Paris:20260423T140000
DTSTAMP:20260422T045743
CREATED:20260406T170132Z
LAST-MODIFIED:20260406T171407Z
UID:2247-1776938400-1776952800@piecki-migowo-ds.pl
SUMMARY:Morenowy turniej czwartkowy
DESCRIPTION:Zapraszamy na cotygodniowy turniej brydża sportowego par. \n \nUWAGA!!!\nObowiązują zapisy
URL:https://piecki-migowo-ds.pl/event/morenowy-turniej-czwartkowy-29/
LOCATION:Dom Sąsiedzki Piecki-Migowo\, Jaśkowa Dolina 105/11\, Gdańsk\, 80-286\, Poland
CATEGORIES:brydż
ORGANIZER;CN="Morenowe ASY":MAILTO:kontakt@alexrawska.pl
END:VEVENT
BEGIN:VEVENT
DTSTART;TZID=Europe/Paris:20260423T140000
DTEND;TZID=Europe/Paris:20260423T170000
DTSTAMP:20260422T045743
CREATED:20260401T134833Z
LAST-MODIFIED:20260401T134833Z
UID:2205-1776952800-1776963600@piecki-migowo-ds.pl
SUMMARY:Brydż dla początkujących+
DESCRIPTION:
URL:https://piecki-migowo-ds.pl/event/brydz-dla-poczatkujacych-5/
LOCATION:Dom Sąsiedzki Piecki-Migowo\, Jaśkowa Dolina 105/11\, Gdańsk\, 80-286\, Poland
ORGANIZER;CN="Morenowe ASY":MAILTO:kontakt@alexrawska.pl
END:VEVENT
BEGIN:VEVENT
DTSTART;TZID=Europe/Paris:20260424T170000
DTEND;TZID=Europe/Paris:20260424T190000
DTSTAMP:20260422T045743
CREATED:20260409T103552Z
LAST-MODIFIED:20260409T103552Z
UID:2294-1777050000-1777057200@piecki-migowo-ds.pl
SUMMARY:Kwietniowe warsztaty malarskie z Mariną 10.04. i 24.04.2026
DESCRIPTION:Zapraszamy na twórcze warsztaty malarskie\, podczas których w przyjaznej i swobodnej atmosferze stworzymy własny obraz farbami akrylowymi. \nNie potrzebujesz żadnego doświadczenia – krok po kroku poprowadzimy Cię przez cały proces twórczy.\nWarsztaty mają charakter ARTETERAPEUTYCZNY: pomagają się wyciszyć i zrelaksować a przy tym są świetną formą zabawy i kreatywnego spędzenia czasu \nZapisy prowadzimy przez tel. +48576566350\, albo można po prostu przyjść.\nczas: piątek\, 10.04.2026 i 24.04.2026 godz. 17.00-19.00 \nSpotkanie bezpłatne\, bez ograniczenia wieku\, zapewniamy materiały i przybory.\nZapraszamy 🙂
URL:https://piecki-migowo-ds.pl/event/kwietniowe-warsztaty-malarskie-z-marina-10-04-i-24-04-2026-2/
LOCATION:Dom Sąsiedzki Piecki-Migowo\, Jaśkowa Dolina 105/11\, Gdańsk\, 80-286\, Poland
ATTACH;FMTTYPE=image/jpeg:https://piecki-migowo-ds.pl/wp-content/uploads/2026/04/malowanie-10042026.jpg
ORGANIZER;CN="Dom S%C4%85siedzki Piecki-Migowo":MAILTO:dspieckimigowo@wp.pl
END:VEVENT
BEGIN:VEVENT
DTSTART;TZID=Europe/Paris:20260425T100000
DTEND;TZID=Europe/Paris:20260425T140000
DTSTAMP:20260422T045743
CREATED:20251227T193753Z
LAST-MODIFIED:20251227T195453Z
UID:1594-1777111200-1777125600@piecki-migowo-ds.pl
SUMMARY:Puchar Dzielnicy Piecki-Migowo
DESCRIPTION:
URL:https://piecki-migowo-ds.pl/event/puchar-dzielnicy-piecki-migowo-4/
LOCATION:Gdański Park Naukowo-Technologiczny\, ul. Trzy Lipy 3\, Gdańsk\, pomorskie\, 80-288\, Poland
ORGANIZER;CN="Morenowe ASY":MAILTO:kontakt@alexrawska.pl
END:VEVENT
BEGIN:VEVENT
DTSTART;TZID=Europe/Paris:20260427T140000
DTEND;TZID=Europe/Paris:20260427T170000
DTSTAMP:20260422T045743
CREATED:20260401T134924Z
LAST-MODIFIED:20260401T134924Z
UID:2208-1777298400-1777309200@piecki-migowo-ds.pl
SUMMARY:Brydż dla początkujących+
DESCRIPTION:
URL:https://piecki-migowo-ds.pl/event/brydz-dla-poczatkujacych-6/
LOCATION:Dom Sąsiedzki Piecki-Migowo\, Jaśkowa Dolina 105/11\, Gdańsk\, 80-286\, Poland
ORGANIZER;CN="Morenowe ASY":MAILTO:kontakt@alexrawska.pl
END:VEVENT
BEGIN:VEVENT
DTSTART;TZID=Europe/Paris:20260427T170000
DTEND;TZID=Europe/Paris:20260427T190000
DTSTAMP:20260422T045743
CREATED:20260330T200542Z
LAST-MODIFIED:20260401T134138Z
UID:2179-1777309200-1777316400@piecki-migowo-ds.pl
SUMMARY:Własne studio nagrań
DESCRIPTION:Logo programu do edycji nagrań Reaper.\nAndrzej Kędzierski zaprasza do naszego Domu Sąsiedzkiego na kolejną edycję 4 spotkań z darmowym programem Reaper dla osób początkujących\, które są zainteresowanie tworzeniem nagrań o dobrej jakości. \nNa zajęciach uczestnicy zainstalują potrzebny program Reaper i sterowniki\, a potem zapoznają się z przynajmniej częścią możliwych funkcji i ich zastosowań. Przy okazji będzie można spróbować swoich sił w tworzeniu zupełnie nowych treści. \nZapraszamy w cztery kolejne poniedziałki 13.04\,  20.04\, 27.04\, 04.05.2026 w godzinach 17.00-19.00. \nNa zajęcia prosimy o zabranie smartfona\, laptopa i kabla do podłączenia telefonu do laptopa. \nZalecane zapisy: dspieckimigowo@wp.pl
URL:https://piecki-migowo-ds.pl/event/wlasne-studio-nagran-spotkanie-warsztat-27-04-2026/
LOCATION:Dom Sąsiedzki Piecki-Migowo\, Jaśkowa Dolina 105/11\, Gdańsk\, 80-286\, Poland
CATEGORIES:nowe technologie
ATTACH;FMTTYPE=image/jpeg:https://piecki-migowo-ds.pl/wp-content/uploads/2026/03/reaper-logo-1.jpg
ORGANIZER;CN="Dom S%C4%85siedzki Piecki-Migowo":MAILTO:dspieckimigowo@wp.pl
END:VEVENT
BEGIN:VEVENT
DTSTART;TZID=Europe/Paris:20260430T100000
DTEND;TZID=Europe/Paris:20260430T140000
DTSTAMP:20260422T045743
CREATED:20260406T170232Z
LAST-MODIFIED:20260406T171443Z
UID:2250-1777543200-1777557600@piecki-migowo-ds.pl
SUMMARY:Morenowy turniej czwartkowy
DESCRIPTION:Zapraszamy na cotygodniowy turniej brydża sportowego par. \n \nUWAGA!!!\nObowiązują zapisy
URL:https://piecki-migowo-ds.pl/event/morenowy-turniej-czwartkowy-30/
LOCATION:Dom Sąsiedzki Piecki-Migowo\, Jaśkowa Dolina 105/11\, Gdańsk\, 80-286\, Poland
CATEGORIES:brydż
ORGANIZER;CN="Morenowe ASY":MAILTO:kontakt@alexrawska.pl
END:VEVENT
BEGIN:VEVENT
DTSTART;TZID=Europe/Paris:20260430T140000
DTEND;TZID=Europe/Paris:20260430T170000
DTSTAMP:20260422T045743
CREATED:20260401T135014Z
LAST-MODIFIED:20260401T135014Z
UID:2211-1777557600-1777568400@piecki-migowo-ds.pl
SUMMARY:Brydż dla początkujących+
DESCRIPTION:
URL:https://piecki-migowo-ds.pl/event/brydz-dla-poczatkujacych-7/
LOCATION:Dom Sąsiedzki Piecki-Migowo\, Jaśkowa Dolina 105/11\, Gdańsk\, 80-286\, Poland
ORGANIZER;CN="Morenowe ASY":MAILTO:kontakt@alexrawska.pl
END:VEVENT
BEGIN:VEVENT
DTSTART;TZID=Europe/Paris:20260504T140000
DTEND;TZID=Europe/Paris:20260504T170000
DTSTAMP:20260422T045743
CREATED:20260401T135117Z
LAST-MODIFIED:20260401T135117Z
UID:2214-1777903200-1777914000@piecki-migowo-ds.pl
SUMMARY:Brydż dla początkujących+
DESCRIPTION:
URL:https://piecki-migowo-ds.pl/event/brydz-dla-poczatkujacych-8/
LOCATION:Dom Sąsiedzki Piecki-Migowo\, Jaśkowa Dolina 105/11\, Gdańsk\, 80-286\, Poland
ORGANIZER;CN="Morenowe ASY":MAILTO:kontakt@alexrawska.pl
END:VEVENT
BEGIN:VEVENT
DTSTART;TZID=Europe/Paris:20260507T100000
DTEND;TZID=Europe/Paris:20260507T140000
DTSTAMP:20260422T045743
CREATED:20260406T170329Z
LAST-MODIFIED:20260406T171523Z
UID:2253-1778148000-1778162400@piecki-migowo-ds.pl
SUMMARY:Morenowy turniej czwartkowy
DESCRIPTION:Zapraszamy na cotygodniowy turniej brydża sportowego par. \n \nUWAGA!!!\nObowiązują zapisy
URL:https://piecki-migowo-ds.pl/event/morenowy-turniej-czwartkowy-31/
LOCATION:Dom Sąsiedzki Piecki-Migowo\, Jaśkowa Dolina 105/11\, Gdańsk\, 80-286\, Poland
CATEGORIES:brydż
ORGANIZER;CN="Morenowe ASY":MAILTO:kontakt@alexrawska.pl
END:VEVENT
BEGIN:VEVENT
DTSTART;TZID=Europe/Paris:20260507T140000
DTEND;TZID=Europe/Paris:20260507T170000
DTSTAMP:20260422T045743
CREATED:20260401T135218Z
LAST-MODIFIED:20260401T135218Z
UID:2217-1778162400-1778173200@piecki-migowo-ds.pl
SUMMARY:Brydż dla początkujących+
DESCRIPTION:
URL:https://piecki-migowo-ds.pl/event/brydz-dla-poczatkujacych-9/
LOCATION:Dom Sąsiedzki Piecki-Migowo\, Jaśkowa Dolina 105/11\, Gdańsk\, 80-286\, Poland
ORGANIZER;CN="Morenowe ASY":MAILTO:kontakt@alexrawska.pl
END:VEVENT
BEGIN:VEVENT
DTSTART;TZID=Europe/Paris:20260511T140000
DTEND;TZID=Europe/Paris:20260511T170000
DTSTAMP:20260422T045743
CREATED:20260401T135311Z
LAST-MODIFIED:20260401T135311Z
UID:2220-1778508000-1778518800@piecki-migowo-ds.pl
SUMMARY:Brydż dla początkujących+
DESCRIPTION:
URL:https://piecki-migowo-ds.pl/event/brydz-dla-poczatkujacych-10/
LOCATION:Dom Sąsiedzki Piecki-Migowo\, Jaśkowa Dolina 105/11\, Gdańsk\, 80-286\, Poland
ORGANIZER;CN="Morenowe ASY":MAILTO:kontakt@alexrawska.pl
END:VEVENT
BEGIN:VEVENT
DTSTART;TZID=Europe/Paris:20260514T100000
DTEND;TZID=Europe/Paris:20260514T140000
DTSTAMP:20260422T045743
CREATED:20260406T170427Z
LAST-MODIFIED:20260406T171612Z
UID:2256-1778752800-1778767200@piecki-migowo-ds.pl
SUMMARY:Morenowy turniej czwartkowy
DESCRIPTION:Zapraszamy na cotygodniowy turniej brydża sportowego par. \n \nUWAGA!!!\nObowiązują zapisy
URL:https://piecki-migowo-ds.pl/event/morenowy-turniej-czwartkowy-32/
LOCATION:Dom Sąsiedzki Piecki-Migowo\, Jaśkowa Dolina 105/11\, Gdańsk\, 80-286\, Poland
CATEGORIES:brydż
ORGANIZER;CN="Morenowe ASY":MAILTO:kontakt@alexrawska.pl
END:VEVENT
BEGIN:VEVENT
DTSTART;TZID=Europe/Paris:20260516T100000
DTEND;TZID=Europe/Paris:20260516T100000
DTSTAMP:20260422T045743
CREATED:20251227T200053Z
LAST-MODIFIED:20251227T200139Z
UID:1618-1778925600-1778925600@piecki-migowo-ds.pl
SUMMARY:Puchar Dzielnicy Piecki-Migowo
DESCRIPTION:
URL:https://piecki-migowo-ds.pl/event/puchar-dzielnicy-piecki-migowo-9/
LOCATION:Gdański Park Naukowo-Technologiczny\, ul. Trzy Lipy 3\, Gdańsk\, pomorskie\, 80-288\, Poland
ORGANIZER;CN="Morenowe ASY":MAILTO:kontakt@alexrawska.pl
END:VEVENT
BEGIN:VEVENT
DTSTART;TZID=Europe/Paris:20260517T100000
DTEND;TZID=Europe/Paris:20260517T140000
DTSTAMP:20260422T045743
CREATED:20260401T135547Z
LAST-MODIFIED:20260406T171840Z
UID:2223-1779012000-1779026400@piecki-migowo-ds.pl
SUMMARY:Dzień Matki przy brydżowym stoliku
DESCRIPTION:
URL:https://piecki-migowo-ds.pl/event/dzien-matki-przy-brydzowym-stoliku/
LOCATION:Dom Sąsiedzki ZAKOPIANKA\, ul. Zakopiańska 40\, Gdańsk\, Poland
CATEGORIES:brydż
ORGANIZER;CN="Morenowe ASY":MAILTO:kontakt@alexrawska.pl
END:VEVENT
BEGIN:VEVENT
DTSTART;TZID=Europe/Paris:20260521T080000
DTEND;TZID=Europe/Paris:20260521T170000
DTSTAMP:20260422T045743
CREATED:20260406T170514Z
LAST-MODIFIED:20260406T171652Z
UID:2259-1779350400-1779382800@piecki-migowo-ds.pl
SUMMARY:Morenowy turniej czwartkowy
DESCRIPTION:Zapraszamy na cotygodniowy turniej brydża sportowego par. \n \nUWAGA!!!\nObowiązują zapisy
URL:https://piecki-migowo-ds.pl/event/morenowy-turniej-czwartkowy-33/
LOCATION:Dom Sąsiedzki Piecki-Migowo\, Jaśkowa Dolina 105/11\, Gdańsk\, 80-286\, Poland
CATEGORIES:brydż
ORGANIZER;CN="Morenowe ASY":MAILTO:kontakt@alexrawska.pl
END:VEVENT
BEGIN:VEVENT
DTSTART;TZID=Europe/Paris:20260528T100000
DTEND;TZID=Europe/Paris:20260528T140000
DTSTAMP:20260422T045743
CREATED:20260406T170619Z
LAST-MODIFIED:20260406T171947Z
UID:2262-1779962400-1779976800@piecki-migowo-ds.pl
SUMMARY:Morenowy turniej czwartkowy
DESCRIPTION:Zapraszamy na cotygodniowy turniej brydża sportowego par. \n \nUWAGA!!!\nObowiązują zapisy
URL:https://piecki-migowo-ds.pl/event/morenowy-turniej-czwartkowy-34/
LOCATION:Dom Sąsiedzki Piecki-Migowo\, Jaśkowa Dolina 105/11\, Gdańsk\, 80-286\, Poland
CATEGORIES:brydż
ORGANIZER;CN="Morenowe ASY":MAILTO:kontakt@alexrawska.pl
END:VEVENT
BEGIN:VEVENT
DTSTART;TZID=Europe/Paris:20260604T100000
DTEND;TZID=Europe/Paris:20260604T140000
DTSTAMP:20260422T045743
CREATED:20260406T170712Z
LAST-MODIFIED:20260406T172055Z
UID:2265-1780567200-1780581600@piecki-migowo-ds.pl
SUMMARY:Morenowy turniej czwartkowy
DESCRIPTION:Zapraszamy na cotygodniowy turniej brydża sportowego par. \n \nUWAGA!!!\nObowiązują zapisy
URL:https://piecki-migowo-ds.pl/event/morenowy-turniej-czwartkowy-35/
LOCATION:Dom Sąsiedzki Piecki-Migowo\, Jaśkowa Dolina 105/11\, Gdańsk\, 80-286\, Poland
CATEGORIES:brydż
ORGANIZER;CN="Morenowe ASY":MAILTO:kontakt@alexrawska.pl
END:VEVENT
BEGIN:VEVENT
DTSTART;TZID=Europe/Paris:20260606T100000
DTEND;TZID=Europe/Paris:20260606T140000
DTSTAMP:20260422T045743
CREATED:20251227T193901Z
LAST-MODIFIED:20251227T195421Z
UID:1597-1780740000-1780754400@piecki-migowo-ds.pl
SUMMARY:Puchar Dzielnicy Piecki-Migowo
DESCRIPTION:
URL:https://piecki-migowo-ds.pl/event/puchar-dzielnicy-piecki-migowo-5/
LOCATION:Gdański Park Naukowo-Technologiczny\, ul. Trzy Lipy 3\, Gdańsk\, pomorskie\, 80-288\, Poland
ORGANIZER;CN="Morenowe ASY":MAILTO:kontakt@alexrawska.pl
END:VEVENT
BEGIN:VEVENT
DTSTART;TZID=Europe/Paris:20260611T100000
DTEND;TZID=Europe/Paris:20260611T140000
DTSTAMP:20260422T045743
CREATED:20260406T170811Z
LAST-MODIFIED:20260406T172127Z
UID:2268-1781172000-1781186400@piecki-migowo-ds.pl
SUMMARY:Morenowy turniej czwartkowy
DESCRIPTION:Zapraszamy na cotygodniowy turniej brydża sportowego par. \n \nUWAGA!!!\nObowiązują zapisy
URL:https://piecki-migowo-ds.pl/event/morenowy-turniej-czwartkowy-36/
LOCATION:Dom Sąsiedzki Piecki-Migowo\, Jaśkowa Dolina 105/11\, Gdańsk\, 80-286\, Poland
ORGANIZER;CN="Morenowe ASY":MAILTO:kontakt@alexrawska.pl
END:VEVENT
BEGIN:VEVENT
DTSTART;TZID=Europe/Paris:20260618T100000
DTEND;TZID=Europe/Paris:20260618T140000
DTSTAMP:20260422T045743
CREATED:20260406T170905Z
LAST-MODIFIED:20260406T172155Z
UID:2271-1781776800-1781791200@piecki-migowo-ds.pl
SUMMARY:Morenowy turniej czwartkowy
DESCRIPTION:Zapraszamy na cotygodniowy turniej brydża sportowego par. \n \nUWAGA!!!\nObowiązują zapisy
URL:https://piecki-migowo-ds.pl/event/morenowy-turniej-czwartkowy-37/
LOCATION:Dom Sąsiedzki Piecki-Migowo\, Jaśkowa Dolina 105/11\, Gdańsk\, 80-286\, Poland
CATEGORIES:brydż
ORGANIZER;CN="Morenowe ASY":MAILTO:kontakt@alexrawska.pl
END:VEVENT
BEGIN:VEVENT
DTSTART;TZID=Europe/Paris:20260625T100000
DTEND;TZID=Europe/Paris:20260625T140000
DTSTAMP:20260422T045743
CREATED:20260406T170959Z
LAST-MODIFIED:20260406T172222Z
UID:2274-1782381600-1782396000@piecki-migowo-ds.pl
SUMMARY:Morenowy turniej czwartkowy
DESCRIPTION:Zapraszamy na cotygodniowy turniej brydża sportowego par. \n \nUWAGA!!!\nObowiązują zapisy
URL:https://piecki-migowo-ds.pl/event/morenowy-turniej-czwartkowy-38/
LOCATION:Dom Sąsiedzki Piecki-Migowo\, Jaśkowa Dolina 105/11\, Gdańsk\, 80-286\, Poland
ORGANIZER;CN="Morenowe ASY":MAILTO:kontakt@alexrawska.pl
END:VEVENT
BEGIN:VEVENT
DTSTART;TZID=Europe/Paris:20260919T100000
DTEND;TZID=Europe/Paris:20260919T140000
DTSTAMP:20260422T045743
CREATED:20251227T194047Z
LAST-MODIFIED:20251227T195344Z
UID:1600-1789812000-1789826400@piecki-migowo-ds.pl
SUMMARY:Puchar Dzielnicy Piecki-Migowo
DESCRIPTION:
URL:https://piecki-migowo-ds.pl/event/puchar-dzielnicy-piecki-migowo-6/
LOCATION:Gdański Park Naukowo-Technologiczny\, ul. Trzy Lipy 3\, Gdańsk\, pomorskie\, 80-288\, Poland
ORGANIZER;CN="Morenowe ASY":MAILTO:kontakt@alexrawska.pl
END:VEVENT
BEGIN:VEVENT
DTSTART;TZID=Europe/Paris:20261121T100000
DTEND;TZID=Europe/Paris:20261121T140000
DTSTAMP:20260422T045743
CREATED:20251227T194436Z
LAST-MODIFIED:20251227T194436Z
UID:1604-1795255200-1795269600@piecki-migowo-ds.pl
SUMMARY:Puchar Dzielnicy Piecki-Migowo
DESCRIPTION:
URL:https://piecki-migowo-ds.pl/event/puchar-dzielnicy-piecki-migowo-8/
LOCATION:Gdański Park Naukowo-Technologiczny\, ul. Trzy Lipy 3\, Gdańsk\, pomorskie\, 80-288\, Poland
ORGANIZER;CN="Morenowe ASY":MAILTO:kontakt@alexrawska.pl
END:VEVENT
END:VCALENDAR