BEGIN:VCALENDAR
VERSION:2.0
PRODID:-//Dom Sąsiedzki Piecki-Migowo - ECPv6.15.20//NONSGML v1.0//EN
CALSCALE:GREGORIAN
METHOD:PUBLISH
X-ORIGINAL-URL:https://piecki-migowo-ds.pl
X-WR-CALDESC:Wydarzenia dla Dom Sąsiedzki Piecki-Migowo
REFRESH-INTERVAL;VALUE=DURATION:PT1H
X-Robots-Tag:noindex
X-PUBLISHED-TTL:PT1H
BEGIN:VTIMEZONE
TZID:Europe/Paris
BEGIN:DAYLIGHT
TZOFFSETFROM:+0100
TZOFFSETTO:+0200
TZNAME:CEST
DTSTART:20240331T010000
END:DAYLIGHT
BEGIN:STANDARD
TZOFFSETFROM:+0200
TZOFFSETTO:+0100
TZNAME:CET
DTSTART:20241027T010000
END:STANDARD
BEGIN:DAYLIGHT
TZOFFSETFROM:+0100
TZOFFSETTO:+0200
TZNAME:CEST
DTSTART:20250330T010000
END:DAYLIGHT
BEGIN:STANDARD
TZOFFSETFROM:+0200
TZOFFSETTO:+0100
TZNAME:CET
DTSTART:20251026T010000
END:STANDARD
BEGIN:DAYLIGHT
TZOFFSETFROM:+0100
TZOFFSETTO:+0200
TZNAME:CEST
DTSTART:20260329T010000
END:DAYLIGHT
BEGIN:STANDARD
TZOFFSETFROM:+0200
TZOFFSETTO:+0100
TZNAME:CET
DTSTART:20261025T010000
END:STANDARD
END:VTIMEZONE
BEGIN:VEVENT
DTSTART;TZID=Europe/Paris:20251211T110000
DTEND;TZID=Europe/Paris:20251211T150000
DTSTAMP:20260419T213729
CREATED:20250928T154315Z
LAST-MODIFIED:20251020T134516Z
UID:1000-1765450800-1765465200@piecki-migowo-ds.pl
SUMMARY:Morenowy turniej czwartkowy
DESCRIPTION:Zapraszamy na cotygodniowy turniej brydża sportowego par. \n \nUWAGA!!!\nObowiązują zapisy
URL:https://piecki-migowo-ds.pl/event/morenowy-turniej-czwartkowy-13/
LOCATION:Dom Sąsiedzki Piecki-Migowo\, Jaśkowa Dolina 105/11\, Gdańsk\, 80-286\, Poland
CATEGORIES:brydż
ORGANIZER;CN="Morenowe ASY":MAILTO:kontakt@alexrawska.pl
END:VEVENT
END:VCALENDAR